BEGIN:VCALENDAR
VERSION:2.0
PRODID:-//The Averi Foundation - ECPv6.15.20//NONSGML v1.0//EN
CALSCALE:GREGORIAN
METHOD:PUBLISH
X-WR-CALNAME:The Averi Foundation
X-ORIGINAL-URL:https://theaverifoundation.org
X-WR-CALDESC:Events for The Averi Foundation
REFRESH-INTERVAL;VALUE=DURATION:PT1H
X-Robots-Tag:noindex
X-PUBLISHED-TTL:PT1H
BEGIN:VTIMEZONE
TZID:America/New_York
BEGIN:DAYLIGHT
TZOFFSETFROM:-0500
TZOFFSETTO:-0400
TZNAME:EDT
DTSTART:20240310T070000
END:DAYLIGHT
BEGIN:STANDARD
TZOFFSETFROM:-0400
TZOFFSETTO:-0500
TZNAME:EST
DTSTART:20241103T060000
END:STANDARD
BEGIN:DAYLIGHT
TZOFFSETFROM:-0500
TZOFFSETTO:-0400
TZNAME:EDT
DTSTART:20250309T070000
END:DAYLIGHT
BEGIN:STANDARD
TZOFFSETFROM:-0400
TZOFFSETTO:-0500
TZNAME:EST
DTSTART:20251102T060000
END:STANDARD
BEGIN:DAYLIGHT
TZOFFSETFROM:-0500
TZOFFSETTO:-0400
TZNAME:EDT
DTSTART:20260308T070000
END:DAYLIGHT
BEGIN:STANDARD
TZOFFSETFROM:-0400
TZOFFSETTO:-0500
TZNAME:EST
DTSTART:20261101T060000
END:STANDARD
END:VTIMEZONE
BEGIN:VTIMEZONE
TZID:America/Denver
BEGIN:DAYLIGHT
TZOFFSETFROM:-0700
TZOFFSETTO:-0600
TZNAME:MDT
DTSTART:20230312T090000
END:DAYLIGHT
BEGIN:STANDARD
TZOFFSETFROM:-0600
TZOFFSETTO:-0700
TZNAME:MST
DTSTART:20231105T080000
END:STANDARD
BEGIN:DAYLIGHT
TZOFFSETFROM:-0700
TZOFFSETTO:-0600
TZNAME:MDT
DTSTART:20240310T090000
END:DAYLIGHT
BEGIN:STANDARD
TZOFFSETFROM:-0600
TZOFFSETTO:-0700
TZNAME:MST
DTSTART:20241103T080000
END:STANDARD
BEGIN:DAYLIGHT
TZOFFSETFROM:-0700
TZOFFSETTO:-0600
TZNAME:MDT
DTSTART:20250309T090000
END:DAYLIGHT
BEGIN:STANDARD
TZOFFSETFROM:-0600
TZOFFSETTO:-0700
TZNAME:MST
DTSTART:20251102T080000
END:STANDARD
BEGIN:DAYLIGHT
TZOFFSETFROM:-0700
TZOFFSETTO:-0600
TZNAME:MDT
DTSTART:20260308T090000
END:DAYLIGHT
BEGIN:STANDARD
TZOFFSETFROM:-0600
TZOFFSETTO:-0700
TZNAME:MST
DTSTART:20261101T080000
END:STANDARD
END:VTIMEZONE
BEGIN:VEVENT
DTSTART;TZID=America/New_York:20250927T080000
DTEND;TZID=America/New_York:20250927T133000
DTSTAMP:20260420T145836
CREATED:20250715T224720Z
LAST-MODIFIED:20250715T225025Z
UID:10000017-1758960000-1758979800@theaverifoundation.org
SUMMARY:Sign Up Now The Annual Averi Foundation Golf Tournament
DESCRIPTION:Objective: To raise funds for The Averi Foundation to benefit children battling cancer.\nAveri Foundation is a 501 (c) (3) nonprofit organization (87-3095183). \nDate: Saturday\, September 28\, 2024\nPlace: RATLIFF RANCH GOLF COURSE\, ODESSA\, TX\nTime: 8:00 am or 1:30 pm (2 shotgun starts)\nEntry Fee: Hole Sponsor with team : $750.00\nIncludes: Non Hole-Sponsor with team: $450.00\n1) Carts and green fees for each four-person team\n2) Great food\n3) Tournament gift certificates and great door prizes\n4) Hole-in-one\, closest to the pin\n5) Goodie bags and various other giveaways\nFormat: FOUR PERSON SCRAMBLE \n“Make a difference by supporting our great cause. Their fight is our fight.” \n\n\n                \n                        Player Name   Add   RemoveCompany   Add   RemoveEmail   Add   RemoveCredit card receipt email address:\n                            \n                        Total Team Entry Fee Enclosed $Check Preferred Starting Time:\n								\n								8:00 am\n							\n								\n								1:30 pm\n							Team CaptainCell PhoneMake checks payable to: Averi’s Angel Foundation Inc.\nTeam Entry forms with Credit Card information can be emailed to Avi Quinonez\nAvi’s email aviq24@aol.com\nTeam Entries mailed with a check go to Averi’s Angel Foundation Inc \n329 Bunche Ave.\nOdessa\, TX 79761 \nNote: All player changes go to Avi Quinonez (432.425.8830) aviq24@aol.com\nYou can hold a spot with a name and payment- We expect to sell out-first come first serve\nFor additional Information:\nTeam Changes: Avi Quinonez (432)425-8830) aviq24@aol.com\n Name:Address:    \n                    \n                        \n                                        \n                                        Address Line 2\n                                    \n                                    \n                                    City\n                                 \n                                        \n                                        State / Province / Region\n                                      \n                                    \n                                    ZIP / Postal Code\n                                \n                                        AfghanistanAlbaniaAlgeriaAmerican SamoaAndorraAngolaAnguillaAntarcticaAntigua and BarbudaArgentinaArmeniaArubaAustraliaAustriaAzerbaijanBahamasBahrainBangladeshBarbadosBelarusBelgiumBelizeBeninBermudaBhutanBoliviaBonaire\, Sint Eustatius and SabaBosnia and HerzegovinaBotswanaBouvet IslandBrazilBritish Indian Ocean TerritoryBrunei DarussalamBulgariaBurkina FasoBurundiCabo VerdeCambodiaCameroonCanadaCayman IslandsCentral African RepublicChadChileChinaChristmas IslandCocos IslandsColombiaComorosCongoCongo\, Democratic Republic of theCook IslandsCosta RicaCroatiaCubaCuraçaoCyprusCzechiaCôte d'IvoireDenmarkDjiboutiDominicaDominican RepublicEcuadorEgyptEl SalvadorEquatorial GuineaEritreaEstoniaEswatiniEthiopiaFalkland IslandsFaroe IslandsFijiFinlandFranceFrench GuianaFrench PolynesiaFrench Southern TerritoriesGabonGambiaGeorgiaGermanyGhanaGibraltarGreeceGreenlandGrenadaGuadeloupeGuamGuatemalaGuernseyGuineaGuinea-BissauGuyanaHaitiHeard Island and McDonald IslandsHoly SeeHondurasHong KongHungaryIcelandIndiaIndonesiaIranIraqIrelandIsle of ManIsraelItalyJamaicaJapanJerseyJordanKazakhstanKenyaKiribatiKorea\, Democratic People's Republic ofKorea\, Republic ofKuwaitKyrgyzstanLao People's Democratic RepublicLatviaLebanonLesothoLiberiaLibyaLiechtensteinLithuaniaLuxembourgMacaoMadagascarMalawiMalaysiaMaldivesMaliMaltaMarshall IslandsMartiniqueMauritaniaMauritiusMayotteMexicoMicronesiaMoldovaMonacoMongoliaMontenegroMontserratMoroccoMozambiqueMyanmarNamibiaNauruNepalNetherlandsNew CaledoniaNew ZealandNicaraguaNigerNigeriaNiueNorfolk IslandNorth MacedoniaNorthern Mariana IslandsNorwayOmanPakistanPalauPalestine\, State ofPanamaPapua New GuineaParaguayPeruPhilippinesPitcairnPolandPortugalPuerto RicoQatarRomaniaRussian FederationRwandaRéunionSaint BarthélemySaint Helena\, Ascension and Tristan da CunhaSaint Kitts and NevisSaint LuciaSaint MartinSaint Pierre and MiquelonSaint Vincent and the GrenadinesSamoaSan MarinoSao Tome and PrincipeSaudi ArabiaSenegalSerbiaSeychellesSierra LeoneSingaporeSint MaartenSlovakiaSloveniaSolomon IslandsSomaliaSouth AfricaSouth Georgia and the South Sandwich IslandsSouth SudanSpainSri LankaSudanSurinameSvalbard and Jan MayenSwedenSwitzerlandSyria Arab RepublicTaiwanTajikistanTanzania\, the United Republic ofThailandTimor-LesteTogoTokelauTongaTrinidad and TobagoTunisiaTurkmenistanTurks and Caicos IslandsTuvaluTürkiyeUS Minor Outlying IslandsUgandaUkraineUnited Arab EmiratesUnited KingdomUnited StatesUruguayUzbekistanVanuatuVenezuelaViet NamVirgin Islands\, BritishVirgin Islands\, U.S.Wallis and FutunaWestern SaharaYemenZambiaZimbabweÅland Islands\n                                        Country\n                                    \n                    \n                Mastercard / Visa / American Express Card #Exp. DateCard Verification on Back # (AMEX on front)Billing Zip CodeSignature for ApprovalCredit Card receipt email address:\n                            \n                        ***Please attach form with credit card paymentThis Payment Includes:\n								\n								Payment for a Team\n							\n								\n								Payment for a Sponsorship\n							PRE-PAY (Available for pick-up at registration day of event)\n								\n								Raffle Tickets $5/each or 5 for $20:
URL:https://theaverifoundation.org/event/the-3rd-annual-averi-foundation-golf-tournament/2025-09-27/
LOCATION:RATLIFF RANCH GOLF COURSE\, ODESSA\, TX
END:VEVENT
BEGIN:VEVENT
DTSTART;TZID=America/Denver:20250914T183000
DTEND;TZID=America/Denver:20250914T203000
DTSTAMP:20260420T145836
CREATED:20250829T172230Z
LAST-MODIFIED:20250829T172641Z
UID:10000021-1757874600-1757881800@theaverifoundation.org
SUMMARY:5th Annual Averi 5K Run
DESCRIPTION:Date and Time: September 14th\, 2025\, 6:30 – 8:30 pm\nLocation: Floyd Gwin Park\, 1015 N County Rd W\, Odessa\, TX 79763\nAdmission: $40.00 \n\n                \n                        Player Name   Add   RemoveCompany   Add   RemoveEmail   Add   RemoveCredit card receipt email address:\n                            \n                        Total Team Entry Fee Enclosed $Check Preferred Starting Time:\n								\n								8:00 am\n							\n								\n								1:30 pm\n							Team CaptainCell PhoneMake checks payable to: Averi’s Angel Foundation Inc.\nTeam Entry forms with Credit Card information can be emailed to Avi Quinonez\nAvi’s email aviq24@aol.com\nTeam Entries mailed with a check go to Averi’s Angel Foundation Inc \n329 Bunche Ave.\nOdessa\, TX 79761 \nNote: All player changes go to Avi Quinonez (432.425.8830) aviq24@aol.com\nYou can hold a spot with a name and payment- We expect to sell out-first come first serve\nFor additional Information:\nTeam Changes: Avi Quinonez (432)425-8830) aviq24@aol.com\n Name:Address:    \n                    \n                        \n                                        \n                                        Address Line 2\n                                    \n                                    \n                                    City\n                                 \n                                        \n                                        State / Province / Region\n                                      \n                                    \n                                    ZIP / Postal Code\n                                \n                                        AfghanistanAlbaniaAlgeriaAmerican SamoaAndorraAngolaAnguillaAntarcticaAntigua and BarbudaArgentinaArmeniaArubaAustraliaAustriaAzerbaijanBahamasBahrainBangladeshBarbadosBelarusBelgiumBelizeBeninBermudaBhutanBoliviaBonaire\, Sint Eustatius and SabaBosnia and HerzegovinaBotswanaBouvet IslandBrazilBritish Indian Ocean TerritoryBrunei DarussalamBulgariaBurkina FasoBurundiCabo VerdeCambodiaCameroonCanadaCayman IslandsCentral African RepublicChadChileChinaChristmas IslandCocos IslandsColombiaComorosCongoCongo\, Democratic Republic of theCook IslandsCosta RicaCroatiaCubaCuraçaoCyprusCzechiaCôte d'IvoireDenmarkDjiboutiDominicaDominican RepublicEcuadorEgyptEl SalvadorEquatorial GuineaEritreaEstoniaEswatiniEthiopiaFalkland IslandsFaroe IslandsFijiFinlandFranceFrench GuianaFrench PolynesiaFrench Southern TerritoriesGabonGambiaGeorgiaGermanyGhanaGibraltarGreeceGreenlandGrenadaGuadeloupeGuamGuatemalaGuernseyGuineaGuinea-BissauGuyanaHaitiHeard Island and McDonald IslandsHoly SeeHondurasHong KongHungaryIcelandIndiaIndonesiaIranIraqIrelandIsle of ManIsraelItalyJamaicaJapanJerseyJordanKazakhstanKenyaKiribatiKorea\, Democratic People's Republic ofKorea\, Republic ofKuwaitKyrgyzstanLao People's Democratic RepublicLatviaLebanonLesothoLiberiaLibyaLiechtensteinLithuaniaLuxembourgMacaoMadagascarMalawiMalaysiaMaldivesMaliMaltaMarshall IslandsMartiniqueMauritaniaMauritiusMayotteMexicoMicronesiaMoldovaMonacoMongoliaMontenegroMontserratMoroccoMozambiqueMyanmarNamibiaNauruNepalNetherlandsNew CaledoniaNew ZealandNicaraguaNigerNigeriaNiueNorfolk IslandNorth MacedoniaNorthern Mariana IslandsNorwayOmanPakistanPalauPalestine\, State ofPanamaPapua New GuineaParaguayPeruPhilippinesPitcairnPolandPortugalPuerto RicoQatarRomaniaRussian FederationRwandaRéunionSaint BarthélemySaint Helena\, Ascension and Tristan da CunhaSaint Kitts and NevisSaint LuciaSaint MartinSaint Pierre and MiquelonSaint Vincent and the GrenadinesSamoaSan MarinoSao Tome and PrincipeSaudi ArabiaSenegalSerbiaSeychellesSierra LeoneSingaporeSint MaartenSlovakiaSloveniaSolomon IslandsSomaliaSouth AfricaSouth Georgia and the South Sandwich IslandsSouth SudanSpainSri LankaSudanSurinameSvalbard and Jan MayenSwedenSwitzerlandSyria Arab RepublicTaiwanTajikistanTanzania\, the United Republic ofThailandTimor-LesteTogoTokelauTongaTrinidad and TobagoTunisiaTurkmenistanTurks and Caicos IslandsTuvaluTürkiyeUS Minor Outlying IslandsUgandaUkraineUnited Arab EmiratesUnited KingdomUnited StatesUruguayUzbekistanVanuatuVenezuelaViet NamVirgin Islands\, BritishVirgin Islands\, U.S.Wallis and FutunaWestern SaharaYemenZambiaZimbabweÅland Islands\n                                        Country\n                                    \n                    \n                Mastercard / Visa / American Express Card #Exp. DateCard Verification on Back # (AMEX on front)Billing Zip CodeSignature for ApprovalCredit Card receipt email address:\n                            \n                        ***Please attach form with credit card paymentThis Payment Includes:\n								\n								Payment for a Team\n							\n								\n								Payment for a Sponsorship\n							PRE-PAY (Available for pick-up at registration day of event)\n								\n								Raffle Tickets $5/each or 5 for $20:
URL:https://theaverifoundation.org/event/5th-annual-averi-5k-run/
LOCATION:Floyd Gwin Park\, 1015 N County Rd W\, Odessa\, TX 79763
END:VEVENT
BEGIN:VEVENT
DTSTART;TZID=America/Denver:20250914T183000
DTEND;TZID=America/Denver:20250914T203000
DTSTAMP:20260420T145836
CREATED:20250825T211400Z
LAST-MODIFIED:20250827T205048Z
UID:10000020-1757874600-1757881800@theaverifoundation.org
SUMMARY:The Averi Foundation 5th Annual 5K Run
DESCRIPTION:Coming soon
URL:https://theaverifoundation.org/event/the-averi-foundation-5th-annual-5k-run/
LOCATION:Floyd Gwin Park\, 1015 N County Rd W\, Odessa\, TX\, 79763\, United States
ORGANIZER;CN="Avi Quinonez":MAILTO:averi@theaverifoundation.org
END:VEVENT
BEGIN:VEVENT
DTSTART;TZID=America/Denver:20240928T080000
DTEND;TZID=America/Denver:20240928T133000
DTSTAMP:20260420T145836
CREATED:20240911T092752Z
LAST-MODIFIED:20240911T121816Z
UID:10000001-1727510400-1727530200@theaverifoundation.org
SUMMARY:The 2nd Annual Averi Foundation  Golf Tournament
DESCRIPTION:Objective: To raise funds for The Averi Foundation to benefit children battling cancer.\nAveri Foundation is a 501 (c) (3) nonprofit organization (87-3095183). \nDate: Saturday\, September 28\, 2024\nPlace: RATLIFF RANCH GOLF COURSE\, ODESSA\, TX\nTime: 8:00 am or 1:30 pm (2 shotgun starts)\nEntry Fee: Hole Sponsor with team : $750.00\nIncludes: Non Hole-Sponsor with team: $450.00\n1) Carts and green fees for each four-person team\n2) Great food\n3) Tournament gift certificates and great door prizes\n4) Hole-in-one\, closest to the pin\n5) Goodie bags and various other giveaways\nFormat: FOUR PERSON SCRAMBLE \n“Make a difference by supporting our great cause. Their fight is our fight.” \n\n                \n                        Player Name   Add   RemoveCompany   Add   RemoveEmail   Add   RemoveCredit card receipt email address:\n                            \n                        Total Team Entry Fee Enclosed $Check Preferred Starting Time:\n								\n								8:00 am\n							\n								\n								1:30 pm\n							Team CaptainCell PhoneMake checks payable to: Averi’s Angel Foundation Inc.\nTeam Entry forms with Credit Card information can be emailed to Avi Quinonez\nAvi’s email aviq24@aol.com\nTeam Entries mailed with a check go to Averi’s Angel Foundation Inc \n329 Bunche Ave.\nOdessa\, TX 79761 \nNote: All player changes go to Avi Quinonez (432.425.8830) aviq24@aol.com\nYou can hold a spot with a name and payment- We expect to sell out-first come first serve\nFor additional Information:\nTeam Changes: Avi Quinonez (432)425-8830) aviq24@aol.com\n Name:Address:    \n                    \n                        \n                                        \n                                        Address Line 2\n                                    \n                                    \n                                    City\n                                 \n                                        \n                                        State / Province / Region\n                                      \n                                    \n                                    ZIP / Postal Code\n                                \n                                        AfghanistanAlbaniaAlgeriaAmerican SamoaAndorraAngolaAnguillaAntarcticaAntigua and BarbudaArgentinaArmeniaArubaAustraliaAustriaAzerbaijanBahamasBahrainBangladeshBarbadosBelarusBelgiumBelizeBeninBermudaBhutanBoliviaBonaire\, Sint Eustatius and SabaBosnia and HerzegovinaBotswanaBouvet IslandBrazilBritish Indian Ocean TerritoryBrunei DarussalamBulgariaBurkina FasoBurundiCabo VerdeCambodiaCameroonCanadaCayman IslandsCentral African RepublicChadChileChinaChristmas IslandCocos IslandsColombiaComorosCongoCongo\, Democratic Republic of theCook IslandsCosta RicaCroatiaCubaCuraçaoCyprusCzechiaCôte d'IvoireDenmarkDjiboutiDominicaDominican RepublicEcuadorEgyptEl SalvadorEquatorial GuineaEritreaEstoniaEswatiniEthiopiaFalkland IslandsFaroe IslandsFijiFinlandFranceFrench GuianaFrench PolynesiaFrench Southern TerritoriesGabonGambiaGeorgiaGermanyGhanaGibraltarGreeceGreenlandGrenadaGuadeloupeGuamGuatemalaGuernseyGuineaGuinea-BissauGuyanaHaitiHeard Island and McDonald IslandsHoly SeeHondurasHong KongHungaryIcelandIndiaIndonesiaIranIraqIrelandIsle of ManIsraelItalyJamaicaJapanJerseyJordanKazakhstanKenyaKiribatiKorea\, Democratic People's Republic ofKorea\, Republic ofKuwaitKyrgyzstanLao People's Democratic RepublicLatviaLebanonLesothoLiberiaLibyaLiechtensteinLithuaniaLuxembourgMacaoMadagascarMalawiMalaysiaMaldivesMaliMaltaMarshall IslandsMartiniqueMauritaniaMauritiusMayotteMexicoMicronesiaMoldovaMonacoMongoliaMontenegroMontserratMoroccoMozambiqueMyanmarNamibiaNauruNepalNetherlandsNew CaledoniaNew ZealandNicaraguaNigerNigeriaNiueNorfolk IslandNorth MacedoniaNorthern Mariana IslandsNorwayOmanPakistanPalauPalestine\, State ofPanamaPapua New GuineaParaguayPeruPhilippinesPitcairnPolandPortugalPuerto RicoQatarRomaniaRussian FederationRwandaRéunionSaint BarthélemySaint Helena\, Ascension and Tristan da CunhaSaint Kitts and NevisSaint LuciaSaint MartinSaint Pierre and MiquelonSaint Vincent and the GrenadinesSamoaSan MarinoSao Tome and PrincipeSaudi ArabiaSenegalSerbiaSeychellesSierra LeoneSingaporeSint MaartenSlovakiaSloveniaSolomon IslandsSomaliaSouth AfricaSouth Georgia and the South Sandwich IslandsSouth SudanSpainSri LankaSudanSurinameSvalbard and Jan MayenSwedenSwitzerlandSyria Arab RepublicTaiwanTajikistanTanzania\, the United Republic ofThailandTimor-LesteTogoTokelauTongaTrinidad and TobagoTunisiaTurkmenistanTurks and Caicos IslandsTuvaluTürkiyeUS Minor Outlying IslandsUgandaUkraineUnited Arab EmiratesUnited KingdomUnited StatesUruguayUzbekistanVanuatuVenezuelaViet NamVirgin Islands\, BritishVirgin Islands\, U.S.Wallis and FutunaWestern SaharaYemenZambiaZimbabweÅland Islands\n                                        Country\n                                    \n                    \n                Mastercard / Visa / American Express Card #Exp. DateCard Verification on Back # (AMEX on front)Billing Zip CodeSignature for ApprovalCredit Card receipt email address:\n                            \n                        ***Please attach form with credit card paymentThis Payment Includes:\n								\n								Payment for a Team\n							\n								\n								Payment for a Sponsorship\n							PRE-PAY (Available for pick-up at registration day of event)\n								\n								Raffle Tickets $5/each or 5 for $20:
URL:https://theaverifoundation.org/event/the-2nd-annual-averi-foundation-golf-tournament/
LOCATION:RATLIFF RANCH GOLF COURSE\, ODESSA\, TX
END:VEVENT
BEGIN:VEVENT
DTSTART;TZID=America/Denver:20240911T080000
DTEND;TZID=America/Denver:20240911T170000
DTSTAMP:20260420T145836
CREATED:20240911T093240Z
LAST-MODIFIED:20240911T121504Z
UID:10000002-1726041600-1726074000@theaverifoundation.org
SUMMARY:Sign Up for 5K Run
DESCRIPTION:
URL:https://theaverifoundation.org/event/sign-up-for-5k-run/
END:VEVENT
END:VCALENDAR